BEGIN:VCALENDAR
VERSION:2.0
PRODID:-//XUL Beer Company - ECPv6.15.12.2//NONSGML v1.0//EN
CALSCALE:GREGORIAN
METHOD:PUBLISH
X-WR-CALNAME:XUL Beer Company
X-ORIGINAL-URL:https://xulbeer.com
X-WR-CALDESC:Events for XUL Beer Company
REFRESH-INTERVAL;VALUE=DURATION:PT1H
X-Robots-Tag:noindex
X-PUBLISHED-TTL:PT1H
BEGIN:VTIMEZONE
TZID:America/New_York
BEGIN:DAYLIGHT
TZOFFSETFROM:-0500
TZOFFSETTO:-0400
TZNAME:EDT
DTSTART:20240310T070000
END:DAYLIGHT
BEGIN:STANDARD
TZOFFSETFROM:-0400
TZOFFSETTO:-0500
TZNAME:EST
DTSTART:20241103T060000
END:STANDARD
BEGIN:DAYLIGHT
TZOFFSETFROM:-0500
TZOFFSETTO:-0400
TZNAME:EDT
DTSTART:20250309T070000
END:DAYLIGHT
BEGIN:STANDARD
TZOFFSETFROM:-0400
TZOFFSETTO:-0500
TZNAME:EST
DTSTART:20251102T060000
END:STANDARD
BEGIN:DAYLIGHT
TZOFFSETFROM:-0500
TZOFFSETTO:-0400
TZNAME:EDT
DTSTART:20260308T070000
END:DAYLIGHT
BEGIN:STANDARD
TZOFFSETFROM:-0400
TZOFFSETTO:-0500
TZNAME:EST
DTSTART:20261101T060000
END:STANDARD
END:VTIMEZONE
BEGIN:VEVENT
DTSTART;TZID=America/New_York:20251108T130000
DTEND;TZID=America/New_York:20251108T170000
DTSTAMP:20260425T155452
CREATED:20251009T221701Z
LAST-MODIFIED:20251009T221710Z
UID:10000025-1762606800-1762621200@xulbeer.com
SUMMARY:The Whale Invitational - Greenville\, SC
DESCRIPTION:Join us on Saturday November 8th as 50+ of the best breweries (in & out of the US) ascend upon The Foundry in beautiful Greenville\, SC.
URL:https://xulbeer.com/event-detail/the-whale-invitational-greenville-sc/
LOCATION:The Foundry at Judson Mill\, 701 Easley Bridge Rd #6030\, Greenville\, SC\, 29611\, United States
CATEGORIES:Festival
ATTACH;FMTTYPE=image/jpeg:https://craftpeak-cooler-images.imgix.net/xul-beer-company/Whale-invitational.jpg?auto=compress%2Cformat&ixlib=php-3.3.1&s=11c4b04a6562af7bb08b0e628b255d5b
END:VEVENT
END:VCALENDAR