BEGIN:VCALENDAR
VERSION:2.0
PRODID:-//XUL Beer Company - ECPv6.15.12.2//NONSGML v1.0//EN
CALSCALE:GREGORIAN
METHOD:PUBLISH
X-ORIGINAL-URL:https://xulbeer.com
X-WR-CALDESC:Events for XUL Beer Company
REFRESH-INTERVAL;VALUE=DURATION:PT1H
X-Robots-Tag:noindex
X-PUBLISHED-TTL:PT1H
BEGIN:VTIMEZONE
TZID:America/New_York
BEGIN:DAYLIGHT
TZOFFSETFROM:-0500
TZOFFSETTO:-0400
TZNAME:EDT
DTSTART:20250309T070000
END:DAYLIGHT
BEGIN:STANDARD
TZOFFSETFROM:-0400
TZOFFSETTO:-0500
TZNAME:EST
DTSTART:20251102T060000
END:STANDARD
BEGIN:DAYLIGHT
TZOFFSETFROM:-0500
TZOFFSETTO:-0400
TZNAME:EDT
DTSTART:20260308T070000
END:DAYLIGHT
BEGIN:STANDARD
TZOFFSETFROM:-0400
TZOFFSETTO:-0500
TZNAME:EST
DTSTART:20261101T060000
END:STANDARD
BEGIN:DAYLIGHT
TZOFFSETFROM:-0500
TZOFFSETTO:-0400
TZNAME:EDT
DTSTART:20270314T070000
END:DAYLIGHT
BEGIN:STANDARD
TZOFFSETFROM:-0400
TZOFFSETTO:-0500
TZNAME:EST
DTSTART:20271107T060000
END:STANDARD
END:VTIMEZONE
BEGIN:VEVENT
DTSTART;TZID=America/New_York:20260207T120000
DTEND;TZID=America/New_York:20260207T160000
DTSTAMP:20260423T001702
CREATED:20251222T163402Z
LAST-MODIFIED:20251222T163407Z
UID:10000061-1770465600-1770480000@xulbeer.com
SUMMARY:Woodstock 2026 - New Groove - Spartanburg\, SC
DESCRIPTION:Woodstock ’26 is a boutique beer festival\, offering a curated list of breweries sharing a common interest in wood-aged beers. Whether you enjoy crisp lagers or heavyweight barleywines\, we will have a taste for all of your barrel-aged interests.
URL:https://xulbeer.com/event-detail/woodstock-2026-new-groove-spartanburg-sc/
LOCATION:Spartanburg Marriott\, 299 N Church St\, Spartanburg\, SC\, 29306\, United States
CATEGORIES:Festival
ATTACH;FMTTYPE=image/png:https://craftpeak-cooler-images.imgix.net/xul-beer-company/STD-Woodstock-26-1024x576-1.png?auto=compress%2Cformat&ixlib=php-3.3.1&s=f33cf815c061536e1d8d5d9c807e6f8c
END:VEVENT
END:VCALENDAR