BEGIN:VCALENDAR
VERSION:2.0
PRODID:-//XUL Beer Company - ECPv6.15.12.2//NONSGML v1.0//EN
CALSCALE:GREGORIAN
METHOD:PUBLISH
X-ORIGINAL-URL:https://xulbeer.com
X-WR-CALDESC:Events for XUL Beer Company
REFRESH-INTERVAL;VALUE=DURATION:PT1H
X-Robots-Tag:noindex
X-PUBLISHED-TTL:PT1H
BEGIN:VTIMEZONE
TZID:America/New_York
BEGIN:DAYLIGHT
TZOFFSETFROM:-0500
TZOFFSETTO:-0400
TZNAME:EDT
DTSTART:20250309T070000
END:DAYLIGHT
BEGIN:STANDARD
TZOFFSETFROM:-0400
TZOFFSETTO:-0500
TZNAME:EST
DTSTART:20251102T060000
END:STANDARD
BEGIN:DAYLIGHT
TZOFFSETFROM:-0500
TZOFFSETTO:-0400
TZNAME:EDT
DTSTART:20260308T070000
END:DAYLIGHT
BEGIN:STANDARD
TZOFFSETFROM:-0400
TZOFFSETTO:-0500
TZNAME:EST
DTSTART:20261101T060000
END:STANDARD
BEGIN:DAYLIGHT
TZOFFSETFROM:-0500
TZOFFSETTO:-0400
TZNAME:EDT
DTSTART:20270314T070000
END:DAYLIGHT
BEGIN:STANDARD
TZOFFSETFROM:-0400
TZOFFSETTO:-0500
TZNAME:EST
DTSTART:20271107T060000
END:STANDARD
END:VTIMEZONE
BEGIN:VEVENT
DTSTART;TZID=America/New_York:20260620T120000
DTEND;TZID=America/New_York:20260620T160000
DTSTAMP:20260425T135915
CREATED:20260330T171151Z
LAST-MODIFIED:20260330T171151Z
UID:10000088-1781956800-1781971200@xulbeer.com
SUMMARY:Green City 2026 - Other Half - Brooklyn\, NY
DESCRIPTION:Come join us for an incredible event celebrating all things hoppy\, hazy\, and refreshing at Other Half Centre St! \n\n\n\n\nWe’re excited to announce Green City 2026 on June 20th from 1-4PM (Early Admission opens at 12 noon). A varied and talented lineup of breweries from all over will be showcasing their best and most unique beers.
URL:https://xulbeer.com/event-detail/green-city-2026-other-half-brooklyn-ny/
LOCATION:Other Half Brewing\, 195 Centre St\, Brooklyn\, NY\, 11231\, United States
CATEGORIES:Festival
ATTACH;FMTTYPE=image/png:https://craftpeak-cooler-images.imgix.net/xul-beer-company/Green-City.png?auto=compress%2Cformat&ixlib=php-3.3.1&s=2b976e1acdb8a29a2649298d037440e9
END:VEVENT
END:VCALENDAR