BEGIN:VCALENDAR
VERSION:2.0
PRODID:-//XUL Beer Company - ECPv6.15.12.2//NONSGML v1.0//EN
CALSCALE:GREGORIAN
METHOD:PUBLISH
X-ORIGINAL-URL:https://xulbeer.com
X-WR-CALDESC:Events for XUL Beer Company
REFRESH-INTERVAL;VALUE=DURATION:PT1H
X-Robots-Tag:noindex
X-PUBLISHED-TTL:PT1H
BEGIN:VTIMEZONE
TZID:America/New_York
BEGIN:DAYLIGHT
TZOFFSETFROM:-0500
TZOFFSETTO:-0400
TZNAME:EDT
DTSTART:20250309T070000
END:DAYLIGHT
BEGIN:STANDARD
TZOFFSETFROM:-0400
TZOFFSETTO:-0500
TZNAME:EST
DTSTART:20251102T060000
END:STANDARD
BEGIN:DAYLIGHT
TZOFFSETFROM:-0500
TZOFFSETTO:-0400
TZNAME:EDT
DTSTART:20260308T070000
END:DAYLIGHT
BEGIN:STANDARD
TZOFFSETFROM:-0400
TZOFFSETTO:-0500
TZNAME:EST
DTSTART:20261101T060000
END:STANDARD
BEGIN:DAYLIGHT
TZOFFSETFROM:-0500
TZOFFSETTO:-0400
TZNAME:EDT
DTSTART:20270314T070000
END:DAYLIGHT
BEGIN:STANDARD
TZOFFSETFROM:-0400
TZOFFSETTO:-0500
TZNAME:EST
DTSTART:20271107T060000
END:STANDARD
END:VTIMEZONE
BEGIN:VEVENT
DTSTART;TZID=America/New_York:20260411T110000
DTEND;TZID=America/New_York:20260411T140000
DTSTAMP:20260423T163403
CREATED:20260219T180515Z
LAST-MODIFIED:20260219T180515Z
UID:10000074-1775905200-1775916000@xulbeer.com
SUMMARY:90's Fest 2026 - Rancho Cordova\, CA
DESCRIPTION:90’s Beer Fest is April 11th\, 11AM–2PM\n* 40+ breweries\n* Live music\n* Special beer releases\n* Food trucks\n* New merch drop\n* Souvenir 90s Fest glass included with ticket
URL:https://xulbeer.com/event-detail/90s-fest-2026-rancho-cordova-ca/
LOCATION:Movement Brewing\, 11151 Trade Center Dr\, Rancho Cordova\, CA\, 95670\, United States
CATEGORIES:Festival
ATTACH;FMTTYPE=image/png:https://craftpeak-cooler-images.imgix.net/xul-beer-company/Movement.png?auto=compress%2Cformat&ixlib=php-3.3.1&s=38823ecfda4b3227081fda5fa208bfe3
END:VEVENT
END:VCALENDAR