BEGIN:VCALENDAR
VERSION:2.0
PRODID:-//XUL Beer Company - ECPv6.15.12.2//NONSGML v1.0//EN
CALSCALE:GREGORIAN
METHOD:PUBLISH
X-ORIGINAL-URL:https://xulbeer.com
X-WR-CALDESC:Events for XUL Beer Company
REFRESH-INTERVAL;VALUE=DURATION:PT1H
X-Robots-Tag:noindex
X-PUBLISHED-TTL:PT1H
BEGIN:VTIMEZONE
TZID:America/New_York
BEGIN:DAYLIGHT
TZOFFSETFROM:-0500
TZOFFSETTO:-0400
TZNAME:EDT
DTSTART:20250309T070000
END:DAYLIGHT
BEGIN:STANDARD
TZOFFSETFROM:-0400
TZOFFSETTO:-0500
TZNAME:EST
DTSTART:20251102T060000
END:STANDARD
BEGIN:DAYLIGHT
TZOFFSETFROM:-0500
TZOFFSETTO:-0400
TZNAME:EDT
DTSTART:20260308T070000
END:DAYLIGHT
BEGIN:STANDARD
TZOFFSETFROM:-0400
TZOFFSETTO:-0500
TZNAME:EST
DTSTART:20261101T060000
END:STANDARD
BEGIN:DAYLIGHT
TZOFFSETFROM:-0500
TZOFFSETTO:-0400
TZNAME:EDT
DTSTART:20270314T070000
END:DAYLIGHT
BEGIN:STANDARD
TZOFFSETFROM:-0400
TZOFFSETTO:-0500
TZNAME:EST
DTSTART:20271107T060000
END:STANDARD
END:VTIMEZONE
BEGIN:VEVENT
DTSTART;TZID=America/New_York:20260418T130000
DTEND;TZID=America/New_York:20260418T180000
DTSTAMP:20260423T162412
CREATED:20260122T153151Z
LAST-MODIFIED:20260122T153158Z
UID:10000067-1776517200-1776535200@xulbeer.com
SUMMARY:Thirsty Orange Beer Fest 2026 - Johnson City\, TN
DESCRIPTION:The fun begins at the Thirsty Orange. The 13th annual Thirsty Orange Brew Extravaganza in 2026. With over 150 + unique beers\, you’ll have a chance to sample beers you have never sampled before along with some great additions for this year. \nApril is Tennessee Craft Beer Month\, and there is no better way than to support craft beer than to support Tri-Cities Craft Beer Week (tricitiescraftbeerweek.com)\, of which the Thirsty Orange Brew Extravaganza is a proud sponsor.
URL:https://xulbeer.com/event-detail/thirsty-orange-beer-fest-2026-johnson-city-tn/
LOCATION:Founder’s Park\, 225 Commerce Street\, Johnson City\, TN\, 37604\, United States
CATEGORIES:Festival
ATTACH;FMTTYPE=image/jpeg:https://craftpeak-cooler-images.imgix.net/xul-beer-company/Thirsty_Orange_2026_Poster-2.jpg?auto=compress%2Cformat&ixlib=php-3.3.1&s=faa934a1423f77d212b2d55ebe98cd60
END:VEVENT
END:VCALENDAR