BEGIN:VCALENDAR
VERSION:2.0
PRODID:-//XUL Beer Company - ECPv6.15.12.2//NONSGML v1.0//EN
CALSCALE:GREGORIAN
METHOD:PUBLISH
X-WR-CALNAME:XUL Beer Company
X-ORIGINAL-URL:https://xulbeer.com
X-WR-CALDESC:Events for XUL Beer Company
REFRESH-INTERVAL;VALUE=DURATION:PT1H
X-Robots-Tag:noindex
X-PUBLISHED-TTL:PT1H
BEGIN:VTIMEZONE
TZID:America/New_York
BEGIN:DAYLIGHT
TZOFFSETFROM:-0500
TZOFFSETTO:-0400
TZNAME:EDT
DTSTART:20240310T070000
END:DAYLIGHT
BEGIN:STANDARD
TZOFFSETFROM:-0400
TZOFFSETTO:-0500
TZNAME:EST
DTSTART:20241103T060000
END:STANDARD
BEGIN:DAYLIGHT
TZOFFSETFROM:-0500
TZOFFSETTO:-0400
TZNAME:EDT
DTSTART:20250309T070000
END:DAYLIGHT
BEGIN:STANDARD
TZOFFSETFROM:-0400
TZOFFSETTO:-0500
TZNAME:EST
DTSTART:20251102T060000
END:STANDARD
BEGIN:DAYLIGHT
TZOFFSETFROM:-0500
TZOFFSETTO:-0400
TZNAME:EDT
DTSTART:20260308T070000
END:DAYLIGHT
BEGIN:STANDARD
TZOFFSETFROM:-0400
TZOFFSETTO:-0500
TZNAME:EST
DTSTART:20261101T060000
END:STANDARD
END:VTIMEZONE
BEGIN:VEVENT
DTSTART;TZID=America/New_York:20251115T120000
DTEND;TZID=America/New_York:20251115T160000
DTSTAMP:20260423T113610
CREATED:20251013T224932Z
LAST-MODIFIED:20251013T224932Z
UID:10000038-1763208000-1763222400@xulbeer.com
SUMMARY:Civil Society's 10th Anniversary Party - Jupiter\, FL
DESCRIPTION:Celebrate 10 years with all you can sample from over 40 of the country’s top breweries. \n\n\n\n\n\n\n\n\n\n\n\n\n\n\n\n 
URL:https://xulbeer.com/event-detail/civil-societys-10th-anniversary-party-jupiter-fl/
LOCATION:Civil Society Brewing\, 1200 Town Center Dr\, Jupiter\, FL\, 33458\, United States
CATEGORIES:Festival
ATTACH;FMTTYPE=image/jpeg:https://craftpeak-cooler-images.imgix.net/xul-beer-company/Civil-Society-1.jpg?auto=compress%2Cformat&ixlib=php-3.3.1&s=0430b34bfc49fe2ffec66c24cd07432f
END:VEVENT
END:VCALENDAR