BEGIN:VCALENDAR
VERSION:2.0
PRODID:-//XUL Beer Company - ECPv6.15.12.2//NONSGML v1.0//EN
CALSCALE:GREGORIAN
METHOD:PUBLISH
X-ORIGINAL-URL:https://xulbeer.com
X-WR-CALDESC:Events for XUL Beer Company
REFRESH-INTERVAL;VALUE=DURATION:PT1H
X-Robots-Tag:noindex
X-PUBLISHED-TTL:PT1H
BEGIN:VTIMEZONE
TZID:America/Denver
BEGIN:DAYLIGHT
TZOFFSETFROM:-0700
TZOFFSETTO:-0600
TZNAME:MDT
DTSTART:20250309T090000
END:DAYLIGHT
BEGIN:STANDARD
TZOFFSETFROM:-0600
TZOFFSETTO:-0700
TZNAME:MST
DTSTART:20251102T080000
END:STANDARD
BEGIN:DAYLIGHT
TZOFFSETFROM:-0700
TZOFFSETTO:-0600
TZNAME:MDT
DTSTART:20260308T090000
END:DAYLIGHT
BEGIN:STANDARD
TZOFFSETFROM:-0600
TZOFFSETTO:-0700
TZNAME:MST
DTSTART:20261101T080000
END:STANDARD
BEGIN:DAYLIGHT
TZOFFSETFROM:-0700
TZOFFSETTO:-0600
TZNAME:MDT
DTSTART:20270314T090000
END:DAYLIGHT
BEGIN:STANDARD
TZOFFSETFROM:-0600
TZOFFSETTO:-0700
TZNAME:MST
DTSTART:20271107T080000
END:STANDARD
END:VTIMEZONE
BEGIN:VEVENT
DTSTART;TZID=America/Denver:20260404T120000
DTEND;TZID=America/Denver:20260404T170000
DTSTAMP:20260423T113623
CREATED:20251013T192603Z
LAST-MODIFIED:20251209T200739Z
UID:10000037-1775304000-1775322000@xulbeer.com
SUMMARY:Fooler's Ball by Drekker Brewing - Fargo\, ND
DESCRIPTION:We’ve assembled our pals from North America’s weirdest breweries to shock\, delight\, and entertain your taste buds. Come celebrate April Fools’ Weekend\, at Brewhalla\, by sampling super limited killer beers and enjoying food from the Brewhalla Market. \nTickets available soon!
URL:https://xulbeer.com/event-detail/foolers-ball-by-drekker-brewing-fargo-nd/
LOCATION:Brewhalla\, 1666 1st Ave N\, Fargo\, ND\, 58102\, United States
CATEGORIES:Festival
ATTACH;FMTTYPE=image/jpeg:https://craftpeak-cooler-images.imgix.net/xul-beer-company/595504990_861844196203028_6944499791139361845_n.jpg?auto=compress%2Cformat&ixlib=php-3.3.1&s=d43517fa6d5efbe87b342b81023e572a
END:VEVENT
END:VCALENDAR