BEGIN:VCALENDAR
VERSION:2.0
PRODID:-//XUL Beer Company - ECPv6.15.12.2//NONSGML v1.0//EN
CALSCALE:GREGORIAN
METHOD:PUBLISH
X-ORIGINAL-URL:https://xulbeer.com
X-WR-CALDESC:Events for XUL Beer Company
REFRESH-INTERVAL;VALUE=DURATION:PT1H
X-Robots-Tag:noindex
X-PUBLISHED-TTL:PT1H
BEGIN:VTIMEZONE
TZID:America/New_York
BEGIN:DAYLIGHT
TZOFFSETFROM:-0500
TZOFFSETTO:-0400
TZNAME:EDT
DTSTART:20240310T070000
END:DAYLIGHT
BEGIN:STANDARD
TZOFFSETFROM:-0400
TZOFFSETTO:-0500
TZNAME:EST
DTSTART:20241103T060000
END:STANDARD
BEGIN:DAYLIGHT
TZOFFSETFROM:-0500
TZOFFSETTO:-0400
TZNAME:EDT
DTSTART:20250309T070000
END:DAYLIGHT
BEGIN:STANDARD
TZOFFSETFROM:-0400
TZOFFSETTO:-0500
TZNAME:EST
DTSTART:20251102T060000
END:STANDARD
BEGIN:DAYLIGHT
TZOFFSETFROM:-0500
TZOFFSETTO:-0400
TZNAME:EDT
DTSTART:20260308T070000
END:DAYLIGHT
BEGIN:STANDARD
TZOFFSETFROM:-0400
TZOFFSETTO:-0500
TZNAME:EST
DTSTART:20261101T060000
END:STANDARD
BEGIN:DAYLIGHT
TZOFFSETFROM:-0500
TZOFFSETTO:-0400
TZNAME:EDT
DTSTART:20270314T070000
END:DAYLIGHT
BEGIN:STANDARD
TZOFFSETFROM:-0400
TZOFFSETTO:-0500
TZNAME:EST
DTSTART:20271107T060000
END:STANDARD
END:VTIMEZONE
BEGIN:VEVENT
DTSTART;TZID=America/New_York:20251207T120000
DTEND;TZID=America/New_York:20251207T170000
DTSTAMP:20260419T162116
CREATED:20251119T140517Z
LAST-MODIFIED:20251119T140517Z
UID:10000044-1765108800-1765126800@xulbeer.com
SUMMARY:Xul's Christmas Market
DESCRIPTION:🎄Xul Holiday Market🎄\n\nThe most wonderful time of the year is almost here\, so come drink\, shop and be merry! Our first Holiday Market will be filled with local shops\, vendors\, discounted Xul merch and unique crafters to help you mark those items off your Christmas list. As always\, we will be serving our delicious beer to sip on while you shop\, along with Abridged Burger Co. and our guests Taco Mafia to satisfy any retail hunger.
URL:https://xulbeer.com/event-detail/xuls-christmas-market/
LOCATION:5th Ave Taproom\, 213 E. 5th Avenue\, Knoxville\, TN\, 37917\, United States
CATEGORIES:Special Event
ATTACH;FMTTYPE=image/jpeg:https://craftpeak-cooler-images.imgix.net/xul-beer-company/xmas-market-web.jpg?auto=compress%2Cformat&ixlib=php-3.3.1&s=f100dc2495d4ef2b85dadbc813d71225
END:VEVENT
BEGIN:VEVENT
DTSTART;TZID=America/New_York:20251209T190000
DTEND;TZID=America/New_York:20251209T203000
DTSTAMP:20260419T162116
CREATED:20251119T155006Z
LAST-MODIFIED:20251208T184545Z
UID:10000045-1765306800-1765312200@xulbeer.com
SUMMARY:Christmas Movies Themed Trivia!
DESCRIPTION:Xul Downtown – test your knowledge & enjoy a Christmas Movies themed Trivia Tuesday\, December 9th at 7 pm hosted by Not Rocket Science Trivia. Gift card prizes are awarded to the top 3 teams every week!
URL:https://xulbeer.com/event-detail/christmas-movie-themed-trivia/
LOCATION:5th Ave Taproom\, 213 E. 5th Avenue\, Knoxville\, TN\, 37917\, United States
CATEGORIES:Trivia
ATTACH;FMTTYPE=image/jpeg:https://craftpeak-cooler-images.imgix.net/xul-beer-company/web-xmas.jpg?auto=compress%2Cformat&ixlib=php-3.3.1&s=dcd04a6ff8208ac6d0ef90941b162334
END:VEVENT
BEGIN:VEVENT
DTSTART;VALUE=DATE:20251213
DTEND;VALUE=DATE:20251214
DTSTAMP:20260419T162116
CREATED:20251129T144050Z
LAST-MODIFIED:20251129T144050Z
UID:10000049-1765584000-1765670399@xulbeer.com
SUMMARY:BA PB&J Mixtape Bottle Release
DESCRIPTION:Our beloved PB&J Mixtape returns in cans plus for the first time ever\, we are releasing a barrel aged version of PB&J Mixtape in bottles. These will sell out\, so mark your calendars for Saturday\, December 13 @ 11am. See you there!!\n\nThis release will be available at BOTH taprooms. ~ Limits will be determined day of release.\n\nCheers!
URL:https://xulbeer.com/event-detail/ba-pbj-mixtape-bottle-release/
LOCATION:5th Ave Taproom\, 213 E. 5th Avenue\, Knoxville\, TN\, 37917\, United States
CATEGORIES:Beer Release
ATTACH;FMTTYPE=image/jpeg:https://craftpeak-cooler-images.imgix.net/xul-beer-company/pbj-web-2.jpg?auto=compress%2Cformat&ixlib=php-3.3.1&s=e50e0806fdaf34fee23c8096fe17663f
END:VEVENT
BEGIN:VEVENT
DTSTART;TZID=America/New_York:20251223T190000
DTEND;TZID=America/New_York:20251223T203000
DTSTAMP:20260419T162116
CREATED:20251119T160505Z
LAST-MODIFIED:20251119T160505Z
UID:10000048-1766516400-1766521800@xulbeer.com
SUMMARY:General Christmas Themed Trivia!
DESCRIPTION:Xul Downtown – test your knowledge & enjoy a General Christmas themed Trivia Tuesday\, December 23rd at 7 pm hosted by Not Rocket Science Trivia. Gift card prizes are awarded to the top 3 teams every week!
URL:https://xulbeer.com/event-detail/general-christmas-themed-trivia/
LOCATION:5th Ave Taproom\, 213 E. 5th Avenue\, Knoxville\, TN\, 37917\, United States
CATEGORIES:Trivia
ATTACH;FMTTYPE=image/jpeg:https://craftpeak-cooler-images.imgix.net/xul-beer-company/xmas-trivia-web.jpg?auto=compress%2Cformat&ixlib=php-3.3.1&s=68b300253185ca0b7eac76b077d5bafc
END:VEVENT
BEGIN:VEVENT
DTSTART;TZID=America/New_York:20260106T190000
DTEND;TZID=America/New_York:20260106T203000
DTSTAMP:20260419T162116
CREATED:20251211T211000Z
LAST-MODIFIED:20251211T211000Z
UID:10000053-1767726000-1767731400@xulbeer.com
SUMMARY:Golden Girls Themed Trivia!
DESCRIPTION:Xul Downtown – test your knowledge & enjoy a Golden Girls themed Trivia Tuesday\, December 6th at 7 pm hosted by Not Rocket Science Trivia. Gift card prizes are awarded to the top 3 teams every week!
URL:https://xulbeer.com/event-detail/golden-girls-themed-trivia/
LOCATION:5th Ave Taproom\, 213 E. 5th Avenue\, Knoxville\, TN\, 37917\, United States
CATEGORIES:Trivia
ATTACH;FMTTYPE=image/jpeg:https://craftpeak-cooler-images.imgix.net/xul-beer-company/GG-Web.jpg?auto=compress%2Cformat&ixlib=php-3.3.1&s=8d8ef8857eb729781c2104e5609ee64a
END:VEVENT
BEGIN:VEVENT
DTSTART;VALUE=DATE:20260131
DTEND;VALUE=DATE:20260201
DTSTAMP:20260419T162116
CREATED:20260108T212947Z
LAST-MODIFIED:20260108T213150Z
UID:10000065-1769817600-1769903999@xulbeer.com
SUMMARY:PB&J Mixtape Strawberry & Grape Release!
DESCRIPTION:Our beloved PB&J Mixtape returns in cans plus we are bringing PB&J Mixtape: Strawberry  in draft and cans!  If you’re familiar with either of them\, you know it sells out fast. So save the date!!\n\nThis release will be available at BOTH taprooms. ~ amount of cases TBD. Limits will be determined day of release.\n\nCheers!
URL:https://xulbeer.com/event-detail/pbj-mixtape-strawberry-grape-release/
LOCATION:5th Ave Taproom\, 213 E. 5th Avenue\, Knoxville\, TN\, 37917\, United States
CATEGORIES:Beer Release
ATTACH;FMTTYPE=image/jpeg:https://craftpeak-cooler-images.imgix.net/xul-beer-company/pbj-web1.jpg?auto=compress%2Cformat&ixlib=php-3.3.1&s=f9c34bc1ec98789efa5aec3c39525e88
END:VEVENT
BEGIN:VEVENT
DTSTART;TZID=America/New_York:20260203T190000
DTEND;TZID=America/New_York:20260203T203000
DTSTAMP:20260419T162116
CREATED:20260106T182535Z
LAST-MODIFIED:20260106T182757Z
UID:10000063-1770145200-1770150600@xulbeer.com
SUMMARY:Stranger Things Themed Trivia!
DESCRIPTION:Xul Downtown – with all the latest Stranger Things shows fresh on your mind\, come test your knowledge & enjoy a Stranger Things themed Trivia Tuesday\, February 3rd at 7 pm hosted by Not Rocket Science Trivia. Gift card prizes are awarded to the top 3 teams every week!
URL:https://xulbeer.com/event-detail/stranger-things-themed-trivia/
LOCATION:5th Ave Taproom\, 213 E. 5th Avenue\, Knoxville\, TN\, 37917\, United States
CATEGORIES:Trivia
ATTACH;FMTTYPE=image/jpeg:https://craftpeak-cooler-images.imgix.net/xul-beer-company/ST-WEB.jpg?auto=compress%2Cformat&ixlib=php-3.3.1&s=b4edd90503f2d5518e62d39fcf00b379
END:VEVENT
BEGIN:VEVENT
DTSTART;TZID=America/New_York:20260303T190000
DTEND;TZID=America/New_York:20260303T203000
DTSTAMP:20260419T162116
CREATED:20260205T142328Z
LAST-MODIFIED:20260205T142328Z
UID:10000072-1772564400-1772569800@xulbeer.com
SUMMARY:Rick and Morty Themed Trivia!
DESCRIPTION:Xul Downtown – come test your knowledge & enjoy a Rick and Morty themed Trivia Tuesday\, March 3rd at 7 pm hosted by Not Rocket Science Trivia. Gift card prizes are awarded to the top 3 teams every week!
URL:https://xulbeer.com/event-detail/rick-and-morty-themed-trivia/
LOCATION:5th Ave Taproom\, 213 E. 5th Avenue\, Knoxville\, TN\, 37917\, United States
CATEGORIES:Trivia
ATTACH;FMTTYPE=image/jpeg:https://craftpeak-cooler-images.imgix.net/xul-beer-company/RickMorty-Web.jpg?auto=compress%2Cformat&ixlib=php-3.3.1&s=b1e59f1da1a3361bbb481620feaa4f31
END:VEVENT
BEGIN:VEVENT
DTSTART;VALUE=DATE:20260321
DTEND;VALUE=DATE:20260322
DTSTAMP:20260419T162116
CREATED:20260209T150918Z
LAST-MODIFIED:20260209T151245Z
UID:10000073-1774051200-1774137599@xulbeer.com
SUMMARY:PB&J Mixtape Day 2026
DESCRIPTION:PB&J Mixtape Day – MARK YOUR CALENDARS! on Saturday\, March 21 we will be releasing 8 flavors of PB&J Mixtape in cans and draft. There will be a live DJ\, food trucks and guest taps. Stay tuned for more details. \n• Grape\n• Banana\n• Blackberry\n• Strawberry\n• Raspberry\n• Blueberry\n• Cherry\n• Peach
URL:https://xulbeer.com/event-detail/pbj-mixtape-day-2026/
LOCATION:5th Ave Taproom\, 213 E. 5th Avenue\, Knoxville\, TN\, 37917\, United States
CATEGORIES:Beer Release,Special Event
ATTACH;FMTTYPE=image/jpeg:https://craftpeak-cooler-images.imgix.net/xul-beer-company/WebCal_.jpg?auto=compress%2Cformat&ixlib=php-3.3.1&s=722e94436412fe7b891fd7f50b66e3d6
END:VEVENT
BEGIN:VEVENT
DTSTART;TZID=America/New_York:20260324T190000
DTEND;TZID=America/New_York:20260324T203000
DTSTAMP:20260419T162116
CREATED:20260305T191446Z
LAST-MODIFIED:20260305T191524Z
UID:10000076-1774378800-1774384200@xulbeer.com
SUMMARY:Disney Themed Trivia!
DESCRIPTION:Xul Downtown – come test your knowledge & enjoy a special Disney themed Trivia Tuesday\, March 24th at 7 pm hosted by Not Rocket Science Trivia. Gift card prizes are awarded to the top 3 teams every week!
URL:https://xulbeer.com/event-detail/disney-themed-trivia/
LOCATION:5th Ave Taproom\, 213 E. 5th Avenue\, Knoxville\, TN\, 37917\, United States
CATEGORIES:Trivia
ATTACH;FMTTYPE=image/jpeg:https://craftpeak-cooler-images.imgix.net/xul-beer-company/Disney-Web-1.jpg?auto=compress%2Cformat&ixlib=php-3.3.1&s=f3d2c0a98b83ce6294a1e3a175734585
END:VEVENT
BEGIN:VEVENT
DTSTART;TZID=America/New_York:20260407T190000
DTEND;TZID=America/New_York:20260407T203000
DTSTAMP:20260419T162116
CREATED:20260327T204521Z
LAST-MODIFIED:20260327T204521Z
UID:10000080-1775588400-1775593800@xulbeer.com
SUMMARY:Taylor Swift Themed Trivia!
DESCRIPTION:Xul Downtown – come test your knowledge & enjoy a special Taylor Swift themed Trivia Tuesday\, April 7th at 7 pm hosted by Not Rocket Science Trivia. Gift card prizes are awarded to the top 3 teams every week!
URL:https://xulbeer.com/event-detail/taylor-swift-themed-trivia/
LOCATION:5th Ave Taproom\, 213 E. 5th Avenue\, Knoxville\, TN\, 37917\, United States
CATEGORIES:Trivia
ATTACH;FMTTYPE=image/jpeg:https://craftpeak-cooler-images.imgix.net/xul-beer-company/Taylor-Swift-Web-1.jpg?auto=compress%2Cformat&ixlib=php-3.3.1&s=2c2b45b7866d7d4a7da18d1ca74dd854
END:VEVENT
BEGIN:VEVENT
DTSTART;VALUE=DATE:20260410
DTEND;VALUE=DATE:20260411
DTSTAMP:20260419T162116
CREATED:20260402T143131Z
LAST-MODIFIED:20260402T143131Z
UID:10000090-1775779200-1775865599@xulbeer.com
SUMMARY:Burial x Xul Collab Release
DESCRIPTION:We are stoked to host our good buddies from Burial Beer Co. just 𝙊𝙑𝙀𝙍 𝙏𝙃𝙀 𝙈𝙊𝙐𝙉𝙏𝘼𝙄𝙉 & 𝙏𝙃𝙍𝙊𝙐𝙂𝙃 𝙏𝙃𝙀 𝙒𝙊𝙊𝘿𝙎\, hence the name of our new collaboration!! 😉 Mark your calendars for Friday April 10th for a special Burial x Xul Double IPA collab drop released at 𝐁𝐎𝐓𝐇 Knoxville locations and a special mini event with burial draft options + package at 𝐁𝐎𝐓𝐇 Knoxville locations! Get ready for some good stuff! 🔥
URL:https://xulbeer.com/event-detail/burial-x-xul-collab-release/
LOCATION:5th Ave Taproom\, 213 E. 5th Avenue\, Knoxville\, TN\, 37917\, United States
CATEGORIES:Beer Release
ATTACH;FMTTYPE=image/jpeg:https://craftpeak-cooler-images.imgix.net/xul-beer-company/burial-web.jpg?auto=compress%2Cformat&ixlib=php-3.3.1&s=51342f5f39dec2313940a2d7678c281a
END:VEVENT
END:VCALENDAR