BEGIN:VCALENDAR
VERSION:2.0
PRODID:-//XUL Beer Company - ECPv6.15.12.2//NONSGML v1.0//EN
CALSCALE:GREGORIAN
METHOD:PUBLISH
X-ORIGINAL-URL:https://xulbeer.com
X-WR-CALDESC:Events for XUL Beer Company
REFRESH-INTERVAL;VALUE=DURATION:PT1H
X-Robots-Tag:noindex
X-PUBLISHED-TTL:PT1H
BEGIN:VTIMEZONE
TZID:America/New_York
BEGIN:DAYLIGHT
TZOFFSETFROM:-0500
TZOFFSETTO:-0400
TZNAME:EDT
DTSTART:20250309T070000
END:DAYLIGHT
BEGIN:STANDARD
TZOFFSETFROM:-0400
TZOFFSETTO:-0500
TZNAME:EST
DTSTART:20251102T060000
END:STANDARD
BEGIN:DAYLIGHT
TZOFFSETFROM:-0500
TZOFFSETTO:-0400
TZNAME:EDT
DTSTART:20260308T070000
END:DAYLIGHT
BEGIN:STANDARD
TZOFFSETFROM:-0400
TZOFFSETTO:-0500
TZNAME:EST
DTSTART:20261101T060000
END:STANDARD
BEGIN:DAYLIGHT
TZOFFSETFROM:-0500
TZOFFSETTO:-0400
TZNAME:EDT
DTSTART:20270314T070000
END:DAYLIGHT
BEGIN:STANDARD
TZOFFSETFROM:-0400
TZOFFSETTO:-0500
TZNAME:EST
DTSTART:20271107T060000
END:STANDARD
END:VTIMEZONE
BEGIN:VEVENT
DTSTART;TZID=America/New_York:20260301T170000
DTEND;TZID=America/New_York:20260301T210000
DTSTAMP:20260425T222448
CREATED:20260123T161332Z
LAST-MODIFIED:20260205T152637Z
UID:10000070-1772384400-1772398800@xulbeer.com
SUMMARY:Snowed In - Phase 3 Tap Feature - Lake Zurich\, IL
DESCRIPTION:Special tap feature at Phase 3. PB&J Mixtape: Strawberry
URL:https://xulbeer.com/event-detail/snowed-in-phase-3-tap-feature-lake-zurich-il/
LOCATION:Phase 3 Brewing\, 932 Donata Ct.\, Lake Zurich\, IL\, 60047\, United States
CATEGORIES:Special Event,Tap Takeover
ATTACH;FMTTYPE=image/png:https://craftpeak-cooler-images.imgix.net/xul-beer-company/Snowed-In.png?auto=compress%2Cformat&ixlib=php-3.3.1&s=fc67e66f345372ce1055dca139fde3cd
END:VEVENT
BEGIN:VEVENT
DTSTART;TZID=America/New_York:20260303T190000
DTEND;TZID=America/New_York:20260303T203000
DTSTAMP:20260425T222448
CREATED:20260205T142328Z
LAST-MODIFIED:20260205T142328Z
UID:10000072-1772564400-1772569800@xulbeer.com
SUMMARY:Rick and Morty Themed Trivia!
DESCRIPTION:Xul Downtown – come test your knowledge & enjoy a Rick and Morty themed Trivia Tuesday\, March 3rd at 7 pm hosted by Not Rocket Science Trivia. Gift card prizes are awarded to the top 3 teams every week!
URL:https://xulbeer.com/event-detail/rick-and-morty-themed-trivia/
LOCATION:5th Ave Taproom\, 213 E. 5th Avenue\, Knoxville\, TN\, 37917\, United States
CATEGORIES:Trivia
ATTACH;FMTTYPE=image/jpeg:https://craftpeak-cooler-images.imgix.net/xul-beer-company/RickMorty-Web.jpg?auto=compress%2Cformat&ixlib=php-3.3.1&s=b1e59f1da1a3361bbb481620feaa4f31
END:VEVENT
BEGIN:VEVENT
DTSTART;TZID=America/New_York:20260304T190000
DTEND;TZID=America/New_York:20260304T203000
DTSTAMP:20260425T222448
CREATED:20260205T141905Z
LAST-MODIFIED:20260205T141905Z
UID:10000071-1772650800-1772656200@xulbeer.com
SUMMARY:I Love The 2000's Themed Trivia!
DESCRIPTION:Xul Hardin Valley – test your knowledge & enjoy an I LOVE THE 2000’s themed Trivia Wednesday\, March 4th at 7 pm hosted by Not Rocket Science Trivia. Gift card prizes are awarded to the top 3 teams every week! BYOF!
URL:https://xulbeer.com/event-detail/i-love-the-2000s-themed-trivia/
LOCATION:Hardin Valley Taproom\, 10677 Hardin Valley Rd\, Knoxville\, TN\, 37932\, United States
CATEGORIES:Trivia
ATTACH;FMTTYPE=image/jpeg:https://craftpeak-cooler-images.imgix.net/xul-beer-company/2000s-web-1.jpg?auto=compress%2Cformat&ixlib=php-3.3.1&s=27e200922e9a236d9fa7b715effc9a23
END:VEVENT
BEGIN:VEVENT
DTSTART;TZID=America/New_York:20260311T180000
DTEND;TZID=America/New_York:20260311T230000
DTSTAMP:20260425T222448
CREATED:20260122T154819Z
LAST-MODIFIED:20260122T154902Z
UID:10000068-1773252000-1773270000@xulbeer.com
SUMMARY:Friends Of The Family - Angry Chair - Tampa\, FL
DESCRIPTION:❤️‍🔥🤝 𝐅𝐑𝐈𝐄𝐍𝐃𝐒 𝐎𝐅 𝐓𝐇𝐄 𝐅𝐀𝐌𝐈𝐋𝐘 🤝❤️‍🔥\n𝐖𝐄𝐃𝐍𝐄𝐒𝐃𝐀𝐘 𝑴𝑨𝑹𝑪𝑯 𝐄𝐋𝐄𝐕𝐄𝐍𝐓𝐇\nAn evening highlighting world class hoppy beers from some of our dearest pals. \n• Angry Chair\n• Brujos\n• CLAG\n• The Veil\n• Everywhere\n• Other Half\n• Trillium
URL:https://xulbeer.com/event-detail/friends-of-the-family-angry-chair-tampa-fl/
LOCATION:Angry Chair\, 4101 N Florida Ave\, Tampa\, FL\, 33603\, United States
CATEGORIES:Special Event
ATTACH;FMTTYPE=image/png:https://craftpeak-cooler-images.imgix.net/xul-beer-company/Friends-of-the-Family.png?auto=compress%2Cformat&ixlib=php-3.3.1&s=7cfc29044f76949d76b39329fae1a6e1
END:VEVENT
BEGIN:VEVENT
DTSTART;TZID=America/New_York:20260314T120000
DTEND;TZID=America/New_York:20260314T170000
DTSTAMP:20260425T222448
CREATED:20251216T214400Z
LAST-MODIFIED:20251222T165027Z
UID:10000057-1773489600-1773507600@xulbeer.com
SUMMARY:The Dark Embrace Invitational 2026 Tampa\, FL
DESCRIPTION:YEAR FOUR of the Dark Embrace Invitational. Ticket information will be available soon.
URL:https://xulbeer.com/event-detail/the-dark-embrace-invitational-2026/
LOCATION:Angry Chair\, 4101 N Florida Ave\, Tampa\, FL\, 33603\, United States
CATEGORIES:Festival
ATTACH;FMTTYPE=image/jpeg:https://craftpeak-cooler-images.imgix.net/xul-beer-company/Dark-Embrace.jpg?auto=compress%2Cformat&ixlib=php-3.3.1&s=4230afad3e002522c031bf9e904d26dd
END:VEVENT
BEGIN:VEVENT
DTSTART;TZID=America/New_York:20260314T120000
DTEND;TZID=America/New_York:20260314T170000
DTSTAMP:20260425T222448
CREATED:20251222T164847Z
LAST-MODIFIED:20251222T164850Z
UID:10000062-1773489600-1773507600@xulbeer.com
SUMMARY:Brujos - Aniversario II - Portland\, OR
DESCRIPTION:A celebration of the works of 𝕾𝖗. 𝕬𝖕𝖔𝖘𝖙𝖆𝖙𝖆 (Lord of the Apostates)\, the arch sorcerer who superseded 𝕿𝖍𝖊 𝕸𝖆𝖌𝖚𝖘\n(the faceless wraith donned in garments of shadow). \n𝕿𝖍𝖊 𝕸𝖆𝖌𝖚𝖘 was the one responsible for laying the groundwork for 𝕭𝕽𝖀𝕵𝕺𝕾 (2014 – 2024) before 𝕾𝖗. 𝕬𝖕𝖔𝖘𝖙𝖆𝖙𝖆 emerged from the shadows to help establish “The Scorched Church” – 𝘸𝘩𝘢𝘵 𝘸𝘦 𝘤𝘢𝘭𝘭 𝘰𝘶𝘳 𝘵𝘢𝘴𝘵𝘪𝘯𝘨 𝘳𝘰𝘰𝘮. Once the church had been erected\, 𝕾𝖗. 𝕬𝖕𝖔𝖘𝖙𝖆𝖙𝖆 commanded 𝕿𝖍𝖊 𝕸𝖆𝖌𝖚𝖘 to return to the shadow realm from which they both came. \nNow with his term coming to an end soon\, we ask you all to save the date of 𝐌𝐚𝐫𝐜𝐡 𝟏𝟒𝐭𝐡\, 𝟐𝟎𝟐𝟔\, as we are beginning to assemble a congregation of 60 ish amazing breweries from near and afar\, incredible food vendors and more to join us at the famous Redd on Salmon St\, in Portland\, OR\, for an evening of liturgical libations & liquid spells\, a celebration of the magick of human arts and the spirit of craft beer!
URL:https://xulbeer.com/event-detail/brujos-aniversario-ii-portland-or/
LOCATION:the Redd\, 831 Southeast Salmon Street\, Portland\, OR\, 97214\, United States
CATEGORIES:Festival
ATTACH;FMTTYPE=image/png:https://craftpeak-cooler-images.imgix.net/xul-beer-company/Brujos.png?auto=compress%2Cformat&ixlib=php-3.3.1&s=4aadcbdfcc66d94565d7307cf322a06b
END:VEVENT
BEGIN:VEVENT
DTSTART;VALUE=DATE:20260321
DTEND;VALUE=DATE:20260322
DTSTAMP:20260425T222448
CREATED:20260209T150918Z
LAST-MODIFIED:20260209T151245Z
UID:10000073-1774051200-1774137599@xulbeer.com
SUMMARY:PB&J Mixtape Day 2026
DESCRIPTION:PB&J Mixtape Day – MARK YOUR CALENDARS! on Saturday\, March 21 we will be releasing 8 flavors of PB&J Mixtape in cans and draft. There will be a live DJ\, food trucks and guest taps. Stay tuned for more details. \n• Grape\n• Banana\n• Blackberry\n• Strawberry\n• Raspberry\n• Blueberry\n• Cherry\n• Peach
URL:https://xulbeer.com/event-detail/pbj-mixtape-day-2026/
LOCATION:5th Ave Taproom\, 213 E. 5th Avenue\, Knoxville\, TN\, 37917\, United States
CATEGORIES:Beer Release,Special Event
ATTACH;FMTTYPE=image/jpeg:https://craftpeak-cooler-images.imgix.net/xul-beer-company/WebCal_.jpg?auto=compress%2Cformat&ixlib=php-3.3.1&s=722e94436412fe7b891fd7f50b66e3d6
END:VEVENT
BEGIN:VEVENT
DTSTART;TZID=America/New_York:20260324T190000
DTEND;TZID=America/New_York:20260324T203000
DTSTAMP:20260425T222448
CREATED:20260305T191446Z
LAST-MODIFIED:20260305T191524Z
UID:10000076-1774378800-1774384200@xulbeer.com
SUMMARY:Disney Themed Trivia!
DESCRIPTION:Xul Downtown – come test your knowledge & enjoy a special Disney themed Trivia Tuesday\, March 24th at 7 pm hosted by Not Rocket Science Trivia. Gift card prizes are awarded to the top 3 teams every week!
URL:https://xulbeer.com/event-detail/disney-themed-trivia/
LOCATION:5th Ave Taproom\, 213 E. 5th Avenue\, Knoxville\, TN\, 37917\, United States
CATEGORIES:Trivia
ATTACH;FMTTYPE=image/jpeg:https://craftpeak-cooler-images.imgix.net/xul-beer-company/Disney-Web-1.jpg?auto=compress%2Cformat&ixlib=php-3.3.1&s=f3d2c0a98b83ce6294a1e3a175734585
END:VEVENT
BEGIN:VEVENT
DTSTART;TZID=America/New_York:20260325T190000
DTEND;TZID=America/New_York:20260325T203000
DTSTAMP:20260425T222448
CREATED:20260305T192016Z
LAST-MODIFIED:20260305T192240Z
UID:10000077-1774465200-1774470600@xulbeer.com
SUMMARY:South Park Themed Trivia!
DESCRIPTION:Xul Hardin Valley – test your knowledge & enjoy a South Park themed Trivia Wednesday\, March 25th at 7 pm hosted by Not Rocket Science Trivia. Gift card prizes are awarded to the top 3 teams every week! BYOF!
URL:https://xulbeer.com/event-detail/south-park-themed-trivia/
LOCATION:Hardin Valley Taproom\, 10677 Hardin Valley Rd\, Knoxville\, TN\, 37932\, United States
CATEGORIES:Trivia
ATTACH;FMTTYPE=image/jpeg:https://craftpeak-cooler-images.imgix.net/xul-beer-company/South-Park-Web.jpg?auto=compress%2Cformat&ixlib=php-3.3.1&s=ab26814096ceadb208feaa2168c4e515
END:VEVENT
BEGIN:VEVENT
DTSTART;TZID=America/New_York:20260328T130000
DTEND;TZID=America/New_York:20260328T170000
DTSTAMP:20260425T222448
CREATED:20251222T161716Z
LAST-MODIFIED:20251222T161832Z
UID:10000060-1774702800-1774717200@xulbeer.com
SUMMARY:Little Beer 6 - Good Word - Duluth\, GA
DESCRIPTION:Join us for the 6th installment of LITTLE BEER! Little Beer is a nationally acclaimed lager festival recognized by USA Today and Hop Culture as a must-attend event. Presented by Good Word Brewing and the City of Duluth\, this celebration of lager and small beer producers from across the country has grown into one of the nation’s premier beer festivals. \nEvent Details:\n•Date: Saturday\, March 28th\, 2026\n•Time: 1:00 PM – 5:00 PM\n•Location: Duluth Town Green\,\n3142 Hill St. NW\, Duluth\, GA 30096
URL:https://xulbeer.com/event-detail/little-beer-6-good-word-duluth-ga/
LOCATION:Duluth Town Green\, 3142 Hill St. NW\, Duluth\, GA\, 30096\, United States
CATEGORIES:Festival
ATTACH;FMTTYPE=image/jpeg:https://craftpeak-cooler-images.imgix.net/xul-beer-company/good-word-1.jpg?auto=compress%2Cformat&ixlib=php-3.3.1&s=5c28313782b3ae62e78ca1288ba310f9
END:VEVENT
END:VCALENDAR