BEGIN:VCALENDAR
VERSION:2.0
PRODID:-//XUL Beer Company - ECPv6.15.12.2//NONSGML v1.0//EN
CALSCALE:GREGORIAN
METHOD:PUBLISH
X-ORIGINAL-URL:https://xulbeer.com
X-WR-CALDESC:Events for XUL Beer Company
REFRESH-INTERVAL;VALUE=DURATION:PT1H
X-Robots-Tag:noindex
X-PUBLISHED-TTL:PT1H
BEGIN:VTIMEZONE
TZID:America/New_York
BEGIN:DAYLIGHT
TZOFFSETFROM:-0500
TZOFFSETTO:-0400
TZNAME:EDT
DTSTART:20250309T070000
END:DAYLIGHT
BEGIN:STANDARD
TZOFFSETFROM:-0400
TZOFFSETTO:-0500
TZNAME:EST
DTSTART:20251102T060000
END:STANDARD
BEGIN:DAYLIGHT
TZOFFSETFROM:-0500
TZOFFSETTO:-0400
TZNAME:EDT
DTSTART:20260308T070000
END:DAYLIGHT
BEGIN:STANDARD
TZOFFSETFROM:-0400
TZOFFSETTO:-0500
TZNAME:EST
DTSTART:20261101T060000
END:STANDARD
BEGIN:DAYLIGHT
TZOFFSETFROM:-0500
TZOFFSETTO:-0400
TZNAME:EDT
DTSTART:20270314T070000
END:DAYLIGHT
BEGIN:STANDARD
TZOFFSETFROM:-0400
TZOFFSETTO:-0500
TZNAME:EST
DTSTART:20271107T060000
END:STANDARD
END:VTIMEZONE
BEGIN:VEVENT
DTSTART;TZID=America/New_York:20260203T190000
DTEND;TZID=America/New_York:20260203T203000
DTSTAMP:20260419T105515
CREATED:20260106T182535Z
LAST-MODIFIED:20260106T182757Z
UID:10000063-1770145200-1770150600@xulbeer.com
SUMMARY:Stranger Things Themed Trivia!
DESCRIPTION:Xul Downtown – with all the latest Stranger Things shows fresh on your mind\, come test your knowledge & enjoy a Stranger Things themed Trivia Tuesday\, February 3rd at 7 pm hosted by Not Rocket Science Trivia. Gift card prizes are awarded to the top 3 teams every week!
URL:https://xulbeer.com/event-detail/stranger-things-themed-trivia/
LOCATION:5th Ave Taproom\, 213 E. 5th Avenue\, Knoxville\, TN\, 37917\, United States
CATEGORIES:Trivia
ATTACH;FMTTYPE=image/jpeg:https://craftpeak-cooler-images.imgix.net/xul-beer-company/ST-WEB.jpg?auto=compress%2Cformat&ixlib=php-3.3.1&s=b4edd90503f2d5518e62d39fcf00b379
END:VEVENT
END:VCALENDAR