BEGIN:VCALENDAR
VERSION:2.0
PRODID:-//XUL Beer Company - ECPv6.15.12.2//NONSGML v1.0//EN
CALSCALE:GREGORIAN
METHOD:PUBLISH
X-ORIGINAL-URL:https://xulbeer.com
X-WR-CALDESC:Events for XUL Beer Company
REFRESH-INTERVAL;VALUE=DURATION:PT1H
X-Robots-Tag:noindex
X-PUBLISHED-TTL:PT1H
BEGIN:VTIMEZONE
TZID:America/New_York
BEGIN:DAYLIGHT
TZOFFSETFROM:-0500
TZOFFSETTO:-0400
TZNAME:EDT
DTSTART:20250309T070000
END:DAYLIGHT
BEGIN:STANDARD
TZOFFSETFROM:-0400
TZOFFSETTO:-0500
TZNAME:EST
DTSTART:20251102T060000
END:STANDARD
BEGIN:DAYLIGHT
TZOFFSETFROM:-0500
TZOFFSETTO:-0400
TZNAME:EDT
DTSTART:20260308T070000
END:DAYLIGHT
BEGIN:STANDARD
TZOFFSETFROM:-0400
TZOFFSETTO:-0500
TZNAME:EST
DTSTART:20261101T060000
END:STANDARD
BEGIN:DAYLIGHT
TZOFFSETFROM:-0500
TZOFFSETTO:-0400
TZNAME:EDT
DTSTART:20270314T070000
END:DAYLIGHT
BEGIN:STANDARD
TZOFFSETFROM:-0400
TZOFFSETTO:-0500
TZNAME:EST
DTSTART:20271107T060000
END:STANDARD
END:VTIMEZONE
BEGIN:VEVENT
DTSTART;TZID=America/New_York:20260106T190000
DTEND;TZID=America/New_York:20260106T203000
DTSTAMP:20260419T124303
CREATED:20251211T211000Z
LAST-MODIFIED:20251211T211000Z
UID:10000053-1767726000-1767731400@xulbeer.com
SUMMARY:Golden Girls Themed Trivia!
DESCRIPTION:Xul Downtown – test your knowledge & enjoy a Golden Girls themed Trivia Tuesday\, December 6th at 7 pm hosted by Not Rocket Science Trivia. Gift card prizes are awarded to the top 3 teams every week!
URL:https://xulbeer.com/event-detail/golden-girls-themed-trivia/
LOCATION:5th Ave Taproom\, 213 E. 5th Avenue\, Knoxville\, TN\, 37917\, United States
CATEGORIES:Trivia
ATTACH;FMTTYPE=image/jpeg:https://craftpeak-cooler-images.imgix.net/xul-beer-company/GG-Web.jpg?auto=compress%2Cformat&ixlib=php-3.3.1&s=8d8ef8857eb729781c2104e5609ee64a
END:VEVENT
BEGIN:VEVENT
DTSTART;VALUE=DATE:20260131
DTEND;VALUE=DATE:20260201
DTSTAMP:20260419T124303
CREATED:20260108T212947Z
LAST-MODIFIED:20260108T213150Z
UID:10000065-1769817600-1769903999@xulbeer.com
SUMMARY:PB&J Mixtape Strawberry & Grape Release!
DESCRIPTION:Our beloved PB&J Mixtape returns in cans plus we are bringing PB&J Mixtape: Strawberry  in draft and cans!  If you’re familiar with either of them\, you know it sells out fast. So save the date!!\n\nThis release will be available at BOTH taprooms. ~ amount of cases TBD. Limits will be determined day of release.\n\nCheers!
URL:https://xulbeer.com/event-detail/pbj-mixtape-strawberry-grape-release/
LOCATION:5th Ave Taproom\, 213 E. 5th Avenue\, Knoxville\, TN\, 37917\, United States
CATEGORIES:Beer Release
ATTACH;FMTTYPE=image/jpeg:https://craftpeak-cooler-images.imgix.net/xul-beer-company/pbj-web1.jpg?auto=compress%2Cformat&ixlib=php-3.3.1&s=f9c34bc1ec98789efa5aec3c39525e88
END:VEVENT
END:VCALENDAR