BEGIN:VCALENDAR
VERSION:2.0
PRODID:-//XUL Beer Company - ECPv6.15.12.2//NONSGML v1.0//EN
CALSCALE:GREGORIAN
METHOD:PUBLISH
X-ORIGINAL-URL:https://xulbeer.com
X-WR-CALDESC:Events for XUL Beer Company
REFRESH-INTERVAL;VALUE=DURATION:PT1H
X-Robots-Tag:noindex
X-PUBLISHED-TTL:PT1H
BEGIN:VTIMEZONE
TZID:America/New_York
BEGIN:DAYLIGHT
TZOFFSETFROM:-0500
TZOFFSETTO:-0400
TZNAME:EDT
DTSTART:20240310T070000
END:DAYLIGHT
BEGIN:STANDARD
TZOFFSETFROM:-0400
TZOFFSETTO:-0500
TZNAME:EST
DTSTART:20241103T060000
END:STANDARD
BEGIN:DAYLIGHT
TZOFFSETFROM:-0500
TZOFFSETTO:-0400
TZNAME:EDT
DTSTART:20250309T070000
END:DAYLIGHT
BEGIN:STANDARD
TZOFFSETFROM:-0400
TZOFFSETTO:-0500
TZNAME:EST
DTSTART:20251102T060000
END:STANDARD
BEGIN:DAYLIGHT
TZOFFSETFROM:-0500
TZOFFSETTO:-0400
TZNAME:EDT
DTSTART:20260308T070000
END:DAYLIGHT
BEGIN:STANDARD
TZOFFSETFROM:-0400
TZOFFSETTO:-0500
TZNAME:EST
DTSTART:20261101T060000
END:STANDARD
END:VTIMEZONE
BEGIN:VEVENT
DTSTART;TZID=America/New_York:20251210T190000
DTEND;TZID=America/New_York:20251210T203000
DTSTAMP:20260419T154133
CREATED:20251119T155509Z
LAST-MODIFIED:20251119T155641Z
UID:10000046-1765393200-1765398600@xulbeer.com
SUMMARY:Elf Themed Trivia!
DESCRIPTION:Xul Hardin Valley – test your knowledge & enjoy an Elf themed Trivia Wednesday\, December 10th at 7 pm hosted by Not Rocket Science Trivia. Gift card prizes are awarded to the top 3 teams every week! BYOF!
URL:https://xulbeer.com/event-detail/elf-themed-trivia/
LOCATION:Hardin Valley Taproom\, 10677 Hardin Valley Rd\, Knoxville\, TN\, 37932\, United States
CATEGORIES:Trivia
ATTACH;FMTTYPE=image/jpeg:https://craftpeak-cooler-images.imgix.net/xul-beer-company/elf-web.jpg?auto=compress%2Cformat&ixlib=php-3.3.1&s=0a92d4737efd03bcc53aff5538d478bf
END:VEVENT
BEGIN:VEVENT
DTSTART;VALUE=DATE:20251213
DTEND;VALUE=DATE:20251214
DTSTAMP:20260419T154133
CREATED:20251129T144050Z
LAST-MODIFIED:20251129T144050Z
UID:10000049-1765584000-1765670399@xulbeer.com
SUMMARY:BA PB&J Mixtape Bottle Release
DESCRIPTION:Our beloved PB&J Mixtape returns in cans plus for the first time ever\, we are releasing a barrel aged version of PB&J Mixtape in bottles. These will sell out\, so mark your calendars for Saturday\, December 13 @ 11am. See you there!!\n\nThis release will be available at BOTH taprooms. ~ Limits will be determined day of release.\n\nCheers!
URL:https://xulbeer.com/event-detail/ba-pbj-mixtape-bottle-release/
LOCATION:5th Ave Taproom\, 213 E. 5th Avenue\, Knoxville\, TN\, 37917\, United States
CATEGORIES:Beer Release
ATTACH;FMTTYPE=image/jpeg:https://craftpeak-cooler-images.imgix.net/xul-beer-company/pbj-web-2.jpg?auto=compress%2Cformat&ixlib=php-3.3.1&s=e50e0806fdaf34fee23c8096fe17663f
END:VEVENT
BEGIN:VEVENT
DTSTART;TZID=America/New_York:20251217T190000
DTEND;TZID=America/New_York:20251217T203000
DTSTAMP:20260419T154133
CREATED:20251119T160118Z
LAST-MODIFIED:20251119T160118Z
UID:10000047-1765998000-1766003400@xulbeer.com
SUMMARY:General Christmas Themed Trivia!
DESCRIPTION:Xul Hardin Valley – test your knowledge & enjoy a General Christmas themed Trivia Wednesday\, December 17th at 7 pm hosted by Not Rocket Science Trivia. Gift card prizes are awarded to the top 3 teams every week! BYOF!
URL:https://xulbeer.com/event-detail/general-xmas-themed-trivia/
LOCATION:Hardin Valley Taproom\, 10677 Hardin Valley Rd\, Knoxville\, TN\, 37932\, United States
CATEGORIES:Trivia
ATTACH;FMTTYPE=image/jpeg:https://craftpeak-cooler-images.imgix.net/xul-beer-company/xmas-trivia-web.jpg?auto=compress%2Cformat&ixlib=php-3.3.1&s=68b300253185ca0b7eac76b077d5bafc
END:VEVENT
END:VCALENDAR